BEGIN:VCALENDAR
VERSION:2.0
PRODID:-//INTERNATIONAL HOUSE - ECPv6.15.20//NONSGML v1.0//EN
CALSCALE:GREGORIAN
METHOD:PUBLISH
X-WR-CALNAME:INTERNATIONAL HOUSE
X-ORIGINAL-URL:https://ihmilano.com
X-WR-CALDESC:Events for INTERNATIONAL HOUSE
REFRESH-INTERVAL;VALUE=DURATION:PT1H
X-Robots-Tag:noindex
X-PUBLISHED-TTL:PT1H
BEGIN:VTIMEZONE
TZID:Europe/Rome
BEGIN:DAYLIGHT
TZOFFSETFROM:+0100
TZOFFSETTO:+0200
TZNAME:CEST
DTSTART:20190331T010000
END:DAYLIGHT
BEGIN:STANDARD
TZOFFSETFROM:+0200
TZOFFSETTO:+0100
TZNAME:CET
DTSTART:20191027T010000
END:STANDARD
BEGIN:DAYLIGHT
TZOFFSETFROM:+0100
TZOFFSETTO:+0200
TZNAME:CEST
DTSTART:20200329T010000
END:DAYLIGHT
BEGIN:STANDARD
TZOFFSETFROM:+0200
TZOFFSETTO:+0100
TZNAME:CET
DTSTART:20201025T010000
END:STANDARD
BEGIN:DAYLIGHT
TZOFFSETFROM:+0100
TZOFFSETTO:+0200
TZNAME:CEST
DTSTART:20210328T010000
END:DAYLIGHT
BEGIN:STANDARD
TZOFFSETFROM:+0200
TZOFFSETTO:+0100
TZNAME:CET
DTSTART:20211031T010000
END:STANDARD
END:VTIMEZONE
BEGIN:VEVENT
DTSTART;VALUE=DATE:20200706
DTEND;VALUE=DATE:20200707
DTSTAMP:20260423T174506
CREATED:20200630T085952Z
LAST-MODIFIED:20200720T105833Z
UID:11899-1593993600-1594079999@ihmilano.com
SUMMARY:Young Learner Starter Kit (online course)
DESCRIPTION:Young Learner Starter Kit\nIt is a one week long course which provides teachers with the initial tools to start teaching children from age 6 to 11. \nWho is the course for? \nThis 100% online course is aimed at teachers who have taken their CELTA and want to broaden their knowledge in the area of Young Learners. It is also suitable for experienced teachers of adults who want to move into working with children. \n\n\n\n\n\n\n\n\n\n\n\n\n\n\nAims and Structure\nThis course is practical and consists of workshops and input on the key basics in YL teaching. \nCourse Participants (Cps) will: \n\nPractice planning to meet aims\nLearn about activities to use to stimulate and support language development\, for example craft\, games\, stories and songs and ways to make learning opportunities from play\nLearn classroom management techniques\nPractice online teaching\n\nSeminars and inputs will take place completely online with interactive remote lessons. All trainees will then have the opportunity to peer teach online\, putting their new skills into practice and receiving feedback from the tutors. There are no written assignments or coursework. \nCPs will self-assess their learning throughout the course\, compiling a learner diary which\, along with their tried and tested lesson plans and feedback will provide them with a portfolio of ideas\, suggestions and reflections to take them forward in their YL teaching. \nIf you’ve always wanted to teach Young Learners\, this course is the kit you need to get started!
URL:https://ihmilano.com/event/young-learner-starter-kit-online-course/2020-07-06/
CATEGORIES:Online,Teacher Training,YL Starter Kit
ATTACH;FMTTYPE=image/png:https://ihmilano.com/wp-content/uploads/2020/06/insegnare-bambini.png
END:VEVENT
END:VCALENDAR