BEGIN:VCALENDAR
VERSION:2.0
PRODID:-//INTERNATIONAL HOUSE - ECPv6.15.20//NONSGML v1.0//EN
CALSCALE:GREGORIAN
METHOD:PUBLISH
X-WR-CALNAME:INTERNATIONAL HOUSE
X-ORIGINAL-URL:https://ihmilano.com
X-WR-CALDESC:Events for INTERNATIONAL HOUSE
REFRESH-INTERVAL;VALUE=DURATION:PT1H
X-Robots-Tag:noindex
X-PUBLISHED-TTL:PT1H
BEGIN:VTIMEZONE
TZID:Europe/Rome
BEGIN:DAYLIGHT
TZOFFSETFROM:+0100
TZOFFSETTO:+0200
TZNAME:CEST
DTSTART:20190331T010000
END:DAYLIGHT
BEGIN:STANDARD
TZOFFSETFROM:+0200
TZOFFSETTO:+0100
TZNAME:CET
DTSTART:20191027T010000
END:STANDARD
BEGIN:DAYLIGHT
TZOFFSETFROM:+0100
TZOFFSETTO:+0200
TZNAME:CEST
DTSTART:20200329T010000
END:DAYLIGHT
BEGIN:STANDARD
TZOFFSETFROM:+0200
TZOFFSETTO:+0100
TZNAME:CET
DTSTART:20201025T010000
END:STANDARD
BEGIN:DAYLIGHT
TZOFFSETFROM:+0100
TZOFFSETTO:+0200
TZNAME:CEST
DTSTART:20210328T010000
END:DAYLIGHT
BEGIN:STANDARD
TZOFFSETFROM:+0200
TZOFFSETTO:+0100
TZNAME:CET
DTSTART:20211031T010000
END:STANDARD
BEGIN:DAYLIGHT
TZOFFSETFROM:+0100
TZOFFSETTO:+0200
TZNAME:CEST
DTSTART:20220327T010000
END:DAYLIGHT
BEGIN:STANDARD
TZOFFSETFROM:+0200
TZOFFSETTO:+0100
TZNAME:CET
DTSTART:20221030T010000
END:STANDARD
BEGIN:DAYLIGHT
TZOFFSETFROM:+0100
TZOFFSETTO:+0200
TZNAME:CEST
DTSTART:20230326T010000
END:DAYLIGHT
BEGIN:STANDARD
TZOFFSETFROM:+0200
TZOFFSETTO:+0100
TZNAME:CET
DTSTART:20231029T010000
END:STANDARD
BEGIN:DAYLIGHT
TZOFFSETFROM:+0100
TZOFFSETTO:+0200
TZNAME:CEST
DTSTART:20240331T010000
END:DAYLIGHT
BEGIN:STANDARD
TZOFFSETFROM:+0200
TZOFFSETTO:+0100
TZNAME:CET
DTSTART:20241027T010000
END:STANDARD
END:VTIMEZONE
BEGIN:VEVENT
DTSTART;TZID=Europe/Rome:20231213T181500
DTEND;TZID=Europe/Rome:20231213T191500
DTSTAMP:20260424T123630
CREATED:20231124T095504Z
LAST-MODIFIED:20231124T100722Z
UID:22729-1702491300-1702494900@ihmilano.com
SUMMARY:Italian & English Language Exchange
DESCRIPTION:
URL:https://ihmilano.com/event/italian-english-language-exchange/
CATEGORIES:Eventi in inglese
ATTACH;FMTTYPE=image/png:https://ihmilano.com/wp-content/uploads/2023/11/language-exchange-fb.png
END:VEVENT
BEGIN:VEVENT
DTSTART;TZID=Europe/Rome:20231123T190000
DTEND;TZID=Europe/Rome:20231123T210000
DTSTAMP:20260424T123630
CREATED:20231103T104750Z
LAST-MODIFIED:20231110T095526Z
UID:22560-1700766000-1700773200@ihmilano.com
SUMMARY:Thanksgiving Party
DESCRIPTION:
URL:https://ihmilano.com/event/thanksgiving-party/
LOCATION:Madama Bistrot\, Via Benaco\, 1\, Milano\, Italia
CATEGORIES:Eventi in inglese
ATTACH;FMTTYPE=image/jpeg:https://ihmilano.com/wp-content/uploads/2023/11/Copia-di-@Madama-Bistrot-Instagram-Post-Facebook-Post.jpg
END:VEVENT
BEGIN:VEVENT
DTSTART;TZID=Europe/Rome:20231010T170000
DTEND;TZID=Europe/Rome:20231010T190000
DTSTAMP:20260424T123630
CREATED:20230915T095445Z
LAST-MODIFIED:20230915T095445Z
UID:21798-1696957200-1696964400@ihmilano.com
SUMMARY:Free IDP:IELTS Webinar "Ask the IELTS expert"
DESCRIPTION:
URL:https://ihmilano.com/event/free-idpielts-webinar-ask-the-ielts-expert/2023-10-10/
LOCATION:online
CATEGORIES:Corsi di preparazione alle certificazioni linguistiche
END:VEVENT
BEGIN:VEVENT
DTSTART;TZID=Europe/Rome:20230920T160000
DTEND;TZID=Europe/Rome:20230920T190000
DTSTAMP:20260424T123630
CREATED:20230915T095045Z
LAST-MODIFIED:20230915T095045Z
UID:21791-1695225600-1695236400@ihmilano.com
SUMMARY:Free IDP:IELTS Webinar "Countdown to IELTS"
DESCRIPTION:
URL:https://ihmilano.com/event/free-idpielts-webinar-countdown-to-ielts/2023-09-20/
LOCATION:online
CATEGORIES:Corsi di preparazione alle certificazioni linguistiche
END:VEVENT
BEGIN:VEVENT
DTSTART;VALUE=DATE:20230619
DTEND;VALUE=DATE:20230620
DTSTAMP:20260424T123630
CREATED:20221024T094948Z
LAST-MODIFIED:20221024T095009Z
UID:19167-1687132800-1687219199@ihmilano.com
SUMMARY:Mixed mode CELTA
DESCRIPTION:
URL:https://ihmilano.com/event/mixed-mode-celta/
LOCATION:International House Milano\, Viale Brenta 27\, Milano\, 20139\, Italia
CATEGORIES:CELTA,Teacher Training
ATTACH;FMTTYPE=image/png:https://ihmilano.com/wp-content/uploads/2021/07/CELTA300x300-1.png
END:VEVENT
BEGIN:VEVENT
DTSTART;VALUE=DATE:20230206
DTEND;VALUE=DATE:20230211
DTSTAMP:20260424T123630
CREATED:20230111T112930Z
LAST-MODIFIED:20230111T112931Z
UID:19675-1675641600-1676073599@ihmilano.com
SUMMARY:Inizio corsi di inglese GE BLENDED 50
DESCRIPTION:
URL:https://ihmilano.com/event/inizio-corsi-di-inglese-ge-blended-50/
LOCATION:Scuola di San Donato\, Via Alfonsine 40\, San Donato Milanese\, 20097\, Italia
CATEGORIES:corsi di inglese
ATTACH;FMTTYPE=image/jpeg:https://ihmilano.com/wp-content/uploads/2023/01/Corsi-di-inglese.jpg
END:VEVENT
BEGIN:VEVENT
DTSTART;TZID=Europe/Rome:20221014T083000
DTEND;TZID=Europe/Rome:20221014T170000
DTSTAMP:20260424T123630
CREATED:20220628T114251Z
LAST-MODIFIED:20220701T084526Z
UID:18226-1665736200-1665766800@ihmilano.com
SUMMARY:Annual conference dedicated to the teaching of English
DESCRIPTION:
URL:https://ihmilano.com/event/ih-milan-annual-conference-dedicated-to-the-teaching-of-english/2022-10-14/
LOCATION:Centro Congressi FAST\, piazzale Rodolfo Morandi\, 2\, Milano\, 20121\, Italia
CATEGORIES:Teacher Training
ATTACH;FMTTYPE=image/jpeg:https://ihmilano.com/wp-content/uploads/2022/06/IH-annual-conference_GF-IG-1200-×-628-px-1080-×-1080-px.jpg
END:VEVENT
BEGIN:VEVENT
DTSTART;VALUE=DATE:20220520
DTEND;VALUE=DATE:20220521
DTSTAMP:20260424T123630
CREATED:20211129T105614Z
LAST-MODIFIED:20211129T110352Z
UID:16673-1653004800-1653091199@ihmilano.com
SUMMARY:Online workshop for English teachers "YLs"
DESCRIPTION:
URL:https://ihmilano.com/event/online-workshop-for-english-teachers-yls/
LOCATION:online
CATEGORIES:ORCPT,Teacher Training
ATTACH;FMTTYPE=image/jpeg:https://ihmilano.com/wp-content/uploads/2021/11/7.jpg
END:VEVENT
BEGIN:VEVENT
DTSTART;VALUE=DATE:20220422
DTEND;VALUE=DATE:20220423
DTSTAMP:20260424T123630
CREATED:20211129T105234Z
LAST-MODIFIED:20211129T110857Z
UID:16674-1650585600-1650671999@ihmilano.com
SUMMARY:Online workshop for English teachers "Materials & Resources"
DESCRIPTION:
URL:https://ihmilano.com/event/online-workshop-for-english-teachers-materials-resources/
LOCATION:online
CATEGORIES:ORCPT,Teacher Training
ATTACH;FMTTYPE=image/jpeg:https://ihmilano.com/wp-content/uploads/2021/11/6.jpg
END:VEVENT
BEGIN:VEVENT
DTSTART;VALUE=DATE:20220325
DTEND;VALUE=DATE:20220326
DTSTAMP:20260424T123630
CREATED:20211129T104909Z
LAST-MODIFIED:20211129T111918Z
UID:16671-1648166400-1648252799@ihmilano.com
SUMMARY:Online workshop for English teachers "Teaching Productive Skills"
DESCRIPTION:
URL:https://ihmilano.com/event/online-workshop-for-english-teachers-teaching-productive-skills/
LOCATION:online
CATEGORIES:ORCPT,Teacher Training
ATTACH;FMTTYPE=image/jpeg:https://ihmilano.com/wp-content/uploads/2021/11/5.jpg
END:VEVENT
BEGIN:VEVENT
DTSTART;TZID=Europe/Rome:20220317T190000
DTEND;TZID=Europe/Rome:20220317T210000
DTSTAMP:20260424T123630
CREATED:20220311T104859Z
LAST-MODIFIED:20220311T104859Z
UID:17421-1647543600-1647550800@ihmilano.com
SUMMARY:Quiz & Storytelling Evening for St. Patrick's Day
DESCRIPTION:
URL:https://ihmilano.com/event/quiz-storytelling-evening-for-st-patricks-day/
LOCATION:Mulberry St. Italian Caffè\, Via Alfonsine 40\, San Donato Milanese\, 20097\, Italia
ATTACH;FMTTYPE=image/png:https://ihmilano.com/wp-content/uploads/2022/03/st-patrick-Post-di-Instagram.png
END:VEVENT
BEGIN:VEVENT
DTSTART;VALUE=DATE:20220225
DTEND;VALUE=DATE:20220226
DTSTAMP:20260424T123630
CREATED:20211129T104642Z
LAST-MODIFIED:20211129T111325Z
UID:16669-1645747200-1645833599@ihmilano.com
SUMMARY:Online workshop for English teachers "Teaching Receptive Skills"
DESCRIPTION:
URL:https://ihmilano.com/event/online-workshop-for-english-teachers-teaching-receptive-skills/
LOCATION:online
CATEGORIES:ORCPT,Teacher Training
ATTACH;FMTTYPE=image/jpeg:https://ihmilano.com/wp-content/uploads/2021/11/4.jpg
END:VEVENT
BEGIN:VEVENT
DTSTART;VALUE=DATE:20220128
DTEND;VALUE=DATE:20220129
DTSTAMP:20260424T123630
CREATED:20211129T104204Z
LAST-MODIFIED:20211129T110954Z
UID:16666-1643328000-1643414399@ihmilano.com
SUMMARY:Online workshop for English teachers "Teaching English Pronunciation 2"
DESCRIPTION:
URL:https://ihmilano.com/event/online-workshop-for-english-teachers-teaching-english-pronunciation-2/
LOCATION:online
CATEGORIES:ORCPT,Teacher Training
ATTACH;FMTTYPE=image/jpeg:https://ihmilano.com/wp-content/uploads/2021/11/3.jpg
END:VEVENT
BEGIN:VEVENT
DTSTART;VALUE=DATE:20211210
DTEND;VALUE=DATE:20211211
DTSTAMP:20260424T123630
CREATED:20211129T104054Z
LAST-MODIFIED:20211129T110211Z
UID:16663-1639094400-1639180799@ihmilano.com
SUMMARY:Online workshop for English teachers: "Teaching English Pronunciation 1"
DESCRIPTION:
URL:https://ihmilano.com/event/online-workshop-for-english-teachers-teaching-english-pronunciation-1/
LOCATION:online
CATEGORIES:ORCPT,Teacher Training
ATTACH;FMTTYPE=image/jpeg:https://ihmilano.com/wp-content/uploads/2021/11/2.jpg
END:VEVENT
BEGIN:VEVENT
DTSTART;TZID=Europe/Rome:20211022T143000
DTEND;TZID=Europe/Rome:20211022T180000
DTSTAMP:20260424T123630
CREATED:20210928T143612Z
LAST-MODIFIED:20210928T143612Z
UID:16163-1634913000-1634925600@ihmilano.com
SUMMARY:Online workshop "Teaching Grammar"
DESCRIPTION:
URL:https://ihmilano.com/event/online-workshop-teaching-grammar/
LOCATION:online
CATEGORIES:Teacher Training
END:VEVENT
BEGIN:VEVENT
DTSTART;VALUE=DATE:20210929
DTEND;VALUE=DATE:20210930
DTSTAMP:20260424T123630
CREATED:20210528T103808Z
LAST-MODIFIED:20230525T103248Z
UID:15135-1632873600-1632959999@ihmilano.com
SUMMARY:Extensive CELTA
DESCRIPTION:
URL:https://ihmilano.com/event/extensive-celta-online-course/2021-09-29/
LOCATION:online
CATEGORIES:CELTA,Teacher Training
ATTACH;FMTTYPE=image/png:https://ihmilano.com/wp-content/uploads/2021/05/Extensive-CELTA-frame-fb-2.png
END:VEVENT
BEGIN:VEVENT
DTSTART;VALUE=DATE:20210913
DTEND;VALUE=DATE:20210914
DTSTAMP:20260424T123630
CREATED:20210528T104609Z
LAST-MODIFIED:20240611T110153Z
UID:15142-1631491200-1631577599@ihmilano.com
SUMMARY:Young Learner Starter Kit
DESCRIPTION:
URL:https://ihmilano.com/event/young-learner-starter-kit/2021-09-13/
LOCATION:online
CATEGORIES:Teacher Training,YL Starter Kit
ATTACH;FMTTYPE=image/png:https://ihmilano.com/wp-content/uploads/2021/05/Young-Learners-Starter-Kit-events.png
END:VEVENT
BEGIN:VEVENT
DTSTART;VALUE=DATE:20210830
DTEND;VALUE=DATE:20210831
DTSTAMP:20260424T123630
CREATED:20210528T104043Z
LAST-MODIFIED:20240419T154046Z
UID:15138-1630281600-1630367999@ihmilano.com
SUMMARY:FTBE online course and certification
DESCRIPTION:
URL:https://ihmilano.com/event/ftbe-online-course-and-certification/2021-08-30/
LOCATION:online
CATEGORIES:FTBE,Teacher Training
ATTACH;FMTTYPE=image/jpeg:https://ihmilano.com/wp-content/uploads/2021/05/FTBE.jpg
END:VEVENT
BEGIN:VEVENT
DTSTART;VALUE=DATE:20210610
DTEND;VALUE=DATE:20210611
DTSTAMP:20260424T123630
CREATED:20210528T104512Z
LAST-MODIFIED:20240611T095304Z
UID:15140-1623283200-1623369599@ihmilano.com
SUMMARY:IHVYL Course and Certificate
DESCRIPTION:
URL:https://ihmilano.com/event/ihvyl-course-and-certificate/2021-06-10/
LOCATION:online
CATEGORIES:Teacher Training,VYL
ATTACH;FMTTYPE=image/png:https://ihmilano.com/wp-content/uploads/2021/05/IHVYL-events.png
END:VEVENT
BEGIN:VEVENT
DTSTART;VALUE=DATE:20210607
DTEND;VALUE=DATE:20210608
DTSTAMP:20260424T123630
CREATED:20210528T104709Z
LAST-MODIFIED:20240116T100350Z
UID:15144-1623024000-1623110399@ihmilano.com
SUMMARY:IHCYLT Course and Certificate
DESCRIPTION:
URL:https://ihmilano.com/event/ihcylt-course-and-certificate-2/2021-06-07/
LOCATION:online
CATEGORIES:IHCYLT,Teacher Training
ATTACH;FMTTYPE=image/png:https://ihmilano.com/wp-content/uploads/2021/05/IHCYLT-events.png
END:VEVENT
BEGIN:VEVENT
DTSTART;TZID=Europe/Rome:20210528T190000
DTEND;TZID=Europe/Rome:20210528T200000
DTSTAMP:20260424T123630
CREATED:20210209T113634Z
LAST-MODIFIED:20210518T105624Z
UID:13827-1622228400-1622232000@ihmilano.com
SUMMARY:Free online aperitif to chat in Italian
DESCRIPTION:
URL:https://ihmilano.com/event/online-aperitif-to-chat-in-italian/
LOCATION:online
CATEGORIES:Event for Italian students,Italian courses,Online
END:VEVENT
BEGIN:VEVENT
DTSTART;VALUE=DATE:20210318
DTEND;VALUE=DATE:20210319
DTSTAMP:20260424T123630
CREATED:20201228T105915Z
LAST-MODIFIED:20201228T110131Z
UID:13519-1616025600-1616111999@ihmilano.com
SUMMARY:Full-time semi-intensive CELTA (online course)
DESCRIPTION:The pre-service CELTA course is aimed mainly at people with little or no teaching experience. It is also suitable for people with teaching experience but without any formal training. It is considered a solid base for teaching English as a foreign language.  \nThe course is recognised by EFL organisations throughout the world and the certificate is the most highly respected of its type. \nEnrolment requirements\nThe requirements to join the course are: minimum CEFR level of English high C1 or above and a high school diploma or equivalent. Please note that many employers require a degree as well. \nCandidates must be at least 18 years old (at the start of the course) and\, generally speaking\, must have a level of education which will enable them to enter higher education in their own countries. \nThe course is open to native and non-native speakers although candidates must have a competence and knowledge of English\, both written and spoken\, that enables them to take the course and teach English. \nThe course consists of seminars with your tutors in the morning\, where you will learn about different teaching techniques and aspects of the English language\, and teaching practice  in the afternoon. Here you will have the opportunity to teach real students\, and afterwards you will get feedback on your lessons from your tutor and peers. \nFrequency \n\nsemi-intensive course: 2 days a week for 8 weeks
URL:https://ihmilano.com/event/full-time-semi-intensive-celta-online-course/
CATEGORIES:CELTA,Teacher Training
ATTACH;FMTTYPE=image/jpeg:https://ihmilano.com/wp-content/uploads/2020/12/teacher-training-celta-adulti-aula-formazione-deocenti-300x300-1.jpg
END:VEVENT
BEGIN:VEVENT
DTSTART;VALUE=DATE:20210222
DTEND;VALUE=DATE:20210223
DTSTAMP:20260424T123630
CREATED:20200402T102500Z
LAST-MODIFIED:20201228T111723Z
UID:10605-1613952000-1614038399@ihmilano.com
SUMMARY:IHVYL Course and Certificate (15 hours online course)
DESCRIPTION:The International House Certificate in Teaching Very Young Learners (IHVYL) is an in-service teacher training course and certificate designed to prepare teachers of English as a Foreign Language to teach children between 3 and 6 years old. \n\nWho is the course for? \n\nThose who teach or wish to teach English as a foreign language to very young children\nTeachers already working in the pre-school environment\nExperienced teachers who want to further develop their skills to teach pre-literate/pre-school students\nTeachers that have had some sort of pre-service training in the teaching of English to adults (IHC/CELTA) or children (IH CYLT – International House Certificate in Teaching Young Learners and Teenagers)
URL:https://ihmilano.com/event/ihvyl-online-course-and-certificate/
CATEGORIES:Teacher Training,VYL
ATTACH;FMTTYPE=image/jpeg:https://ihmilano.com/wp-content/uploads/2020/04/IHVYL-3-3.jpg
END:VEVENT
BEGIN:VEVENT
DTSTART;VALUE=DATE:20210213
DTEND;VALUE=DATE:20210214
DTSTAMP:20260424T123630
CREATED:20200630T084115Z
LAST-MODIFIED:20240419T150905Z
UID:11896-1613174400-1613260799@ihmilano.com
SUMMARY:Part-time CELTA
DESCRIPTION:
URL:https://ihmilano.com/event/part-time-celta-online-course/2021-02-13/
LOCATION:online
CATEGORIES:CELTA,Online,Teacher Training
ATTACH;FMTTYPE=image/png:https://ihmilano.com/wp-content/uploads/2020/06/Part-time-CELTA-events.png
END:VEVENT
BEGIN:VEVENT
DTSTART;VALUE=DATE:20210201
DTEND;VALUE=DATE:20210202
DTSTAMP:20260424T123630
CREATED:20200428T110454Z
LAST-MODIFIED:20240419T155514Z
UID:10953-1612137600-1612223999@ihmilano.com
SUMMARY:Intensive CELTA
DESCRIPTION:
URL:https://ihmilano.com/event/full-time-celta-online-course-2/2021-02-01/
LOCATION:online
CATEGORIES:CELTA,Teacher Training
ATTACH;FMTTYPE=image/png:https://ihmilano.com/wp-content/uploads/2020/04/Intensive-CELTA-events.png
END:VEVENT
BEGIN:VEVENT
DTSTART;VALUE=DATE:20210115
DTEND;VALUE=DATE:20210116
DTSTAMP:20260424T123630
CREATED:20200825T094707Z
LAST-MODIFIED:20201228T112221Z
UID:12318-1610668800-1610755199@ihmilano.com
SUMMARY:IHCYLT Course and Certificate
DESCRIPTION:The IH certificate in teaching Young Learners and Teenagers (IHCYLT) is an in-service qualification for CELTA (or equivalent) trained teachers to develop their skills in teaching 2-16 year olds.  \nThis internationally recognized qualification is awarded by International House and moderated by Cambridge English Language Assessment.  \nThe course’s objective is to introduce trainees to the principles behind successful YL teaching as well as it’s practical application in the classroom. Trainees develop their skills over the duration of the course via input sessions\, teaching practice\, observations\, feedback and evaluation and written assignments. \nThe course will be delivered completely online. Lessons on Friday. \nDetailed programme and further information at the link below.
URL:https://ihmilano.com/event/ihcylt-course-and-certificate/
CATEGORIES:IHCYLT,Teacher Training
ATTACH;FMTTYPE=image/png:https://ihmilano.com/wp-content/uploads/2020/07/IHCYLT.png
END:VEVENT
BEGIN:VEVENT
DTSTART;VALUE=DATE:20210102
DTEND;VALUE=DATE:20210103
DTSTAMP:20260424T123630
CREATED:20201228T101652Z
LAST-MODIFIED:20201228T102309Z
UID:13502-1609545600-1609631999@ihmilano.com
SUMMARY:Best Practice in Online Teaching: SOS D.a.D. online course (9 hours)
DESCRIPTION:Are you a good teacher and would you like to express yourself better in online lessons too? Would you like to reinforce the knowledge acquired during the lockdown? Or prepare for the next competitions? We have the right solution to improve your online teaching skills! In the “SOS D.a.D.” course our most experienced teachers will share their know-how with you. \nThis course is available in both English and Italian. \nDiscover the detailed program at the link below.
URL:https://ihmilano.com/event/corso-online-sos-d-a-d-per-migliorare-nellinsegnamento-online-9-ore/2021-01-02/
CATEGORIES:Teacher Training
ATTACH;FMTTYPE=image/jpeg:https://ihmilano.com/wp-content/uploads/2020/12/online-teaching.jpg
END:VEVENT
BEGIN:VEVENT
DTSTART;TZID=Europe/Rome:20201102T170000
DTEND;TZID=Europe/Rome:20201102T180000
DTSTAMP:20260424T123630
CREATED:20201030T101721Z
LAST-MODIFIED:20201030T102550Z
UID:12856-1604336400-1604340000@ihmilano.com
SUMMARY:Very Young Learners: Teaching with Flashcards (Webinar)
DESCRIPTION:A free webinar by our expert in teaching young learners Kate Knight\nFlashcards are an essential part of our language teaching toolkit: visual\, meaningful and adaptable. This session will look at the importance of the flashcard in our VYL lessons and give you plenty of fun and effective ideas to take back to your classroom. \nA free one-hour seminar in which our expert teacher trainer Kate will give you many practical tips that can be immediately used in class. \nRegistration on eventbrite \n\n\n\n\n\n\n\n\n\n\n\n\n\n\n\n\n\n\n\n\n\nKate Knight is a freelance Teacher Trainer based in the UK. She started her ELT career in 2007 first as a teacher\, then Senior Teacher\, Young Learner Coordinator\, and Director of Studies. In her various academic management roles she has served as a mentor for hundreds of teachers. She is most passionate about teaching children and teenagers and is the main course tutor on both the IH VYL and IH CYLT. She is both CELTA and DELTA-qualified.
URL:https://ihmilano.com/event/very-young-learners-teaching-with-flashcards-webinar/
CATEGORIES:Online,Seminario per insegnanti,Teacher Training
ATTACH;FMTTYPE=image/png:https://ihmilano.com/wp-content/uploads/2020/10/Copia-di-Teaching-with-Flashcards-eventbrite.png
END:VEVENT
BEGIN:VEVENT
DTSTART;TZID=Europe/Rome:20201030T083000
DTEND;TZID=Europe/Rome:20201030T160000
DTSTAMP:20260424T123630
CREATED:20201005T092309Z
LAST-MODIFIED:20201007T105358Z
UID:12658-1604046600-1604073600@ihmilano.com
SUMMARY:IH Milan Annual Conference - Primary Strand (Webinar)
DESCRIPTION:What’s the Story?\nEmpowering Language Teachers in the Digital Age\nProvisional Programme\n\n8:30 – 9:00 > Be ready to learn the latest updates from our sponsors\n9:00 – 9:15 > Sarah Stats\, Deputy Director IH Milan & San Donato\, “Welcome”\n9:15 – 10:00 > Thom Kiddle “Key competences for language teachers in the 2020s” – sponsored by NILE\n10:00 – 10:15 > Stretch your legs and visit our sponsors\n10:15 – 11:00 > David Heathfield “Live\, Creative\, Interactive Online Storytelling in English: how teachers can tell stories to engage Young Learners” – sponsored by Delta Publishing\n11:00 – 11:30 > Coffee Break and visit our sponsors\n11:30 – 12:00 > Kate Knight\, IH Milan & San Donato\, “Developing our learners’ literacy skills”\n12:10 – 12:40 > Tiziana Pace\, IH Milan & San Donato\, “Think\, Collaborate\, Listen. Soft skills in the Primary classroom”\n12:40 – 13:30 > Luch\n13:30 – 14:00 > David Heathfield “Learning a chain tale together – fun\, physical\, effective\, affective\, life-affirming”– sponsored by Delta Publishing\n14:10 – 15:00 > Matt Ellman\, “Developing teacher leaders” – sponsored by Cambridge University Press\n15:00 – 15:15 > Thank you/wrap up/ visit our sponsors one last time! \n\nAlso this year\, participants will receive a certificate of attendance. International House is a member of AISLI\, Accredited Body for the training of School Teaching Staff (Decree 177/2000 and Directive 90/2003 of the Ministry of Public Education). \nWould you like to participate? Register on Eventbrite Eventbrite\, you will receive the link to attend the event.
URL:https://ihmilano.com/event/ih-milan-annual-conference-primary-strand-webinar/
CATEGORIES:Online,Seminario per insegnanti,Teacher Training
END:VEVENT
BEGIN:VEVENT
DTSTART;TZID=Europe/Rome:20201023T083000
DTEND;TZID=Europe/Rome:20201023T160000
DTSTAMP:20260424T123630
CREATED:20201005T090759Z
LAST-MODIFIED:20201016T090555Z
UID:12654-1603441800-1603468800@ihmilano.com
SUMMARY:IH Milan Annual Conference - Secondary Strand (Webinar)
DESCRIPTION:What’s the Story?\nEmpowering Language Teachers in the Digital Age\nProvisional Programme\n\n8:30 – 9:00 > Be ready to learn the latest updates from our sponsors\n9:00 – 9:15 > Sarah Stats\, Deputy Director IH Milan & San Donato\, “Welcome”\n9:15 – 10:00 > Kieran Donaghy “What about the fifth Skill of Viewing?” – Sponsored by Macmillan\n10:00 – 10:15 > Stretch your legs and visit our sponsors\n10:15 – 11:00 > Rachael Roberts “The gift of Growth Mindset” – Sponsored by Pearson\n11:00 – 11:30 > Coffee Break and visit our sponsors\n11:30 – 12:00 > Alberto Fornasier\, IH Milan & San Donato\, “Engaging homework for Pre-teens”\n12:10 – 12:40 > Veronika Balkind\, IH Milan & San Donato\, “Don’t underestimate the power of social media in your classroom”\n12:40 – 13:30 > Lunch\n13:30 – 14:00 > Daniel Tse\, IH Milan & San Donato\, “5 materials-light language practice for online classroom”\n14:10 – 15:00 > Matt Ellman “Developing teacher leaders” – Sponsored by Cambridge University Press\n15:00 – 15:15 > Thank you/wrap up/visit our sponsors one last time!\n\nAlso this year\, participants will receive a certificate of attendance. International House is a member of AISLI\, Accredited Body for the training of School Teaching Staff (Decree 177/2000 and Directive 90/2003 of the Ministry of Public Education). \nWould you like to participate? Register on Eventbrite\, you will receive the link to attend the event.
URL:https://ihmilano.com/event/ih-milan-annual-conference-secondary-strand-webinar/
CATEGORIES:Online,Seminario per insegnanti,Teacher Training
ATTACH;FMTTYPE=image/png:https://ihmilano.com/wp-content/uploads/2020/10/2.png
END:VEVENT
END:VCALENDAR